BEGIN:VCALENDAR
VERSION:2.0
PRODID:-//Elternverein Mariatal - ECPv6.15.20//NONSGML v1.0//EN
CALSCALE:GREGORIAN
METHOD:PUBLISH
X-ORIGINAL-URL:https://elternverein-mariatal.at
X-WR-CALDESC:Veranstaltungen für Elternverein Mariatal
REFRESH-INTERVAL;VALUE=DURATION:PT1H
X-Robots-Tag:noindex
X-PUBLISHED-TTL:PT1H
BEGIN:VTIMEZONE
TZID:UTC
BEGIN:STANDARD
TZOFFSETFROM:+0000
TZOFFSETTO:+0000
TZNAME:UTC
DTSTART:20170101T000000
END:STANDARD
END:VTIMEZONE
BEGIN:VEVENT
DTSTART;TZID=UTC:20241117T110000
DTEND;TZID=UTC:20241117T110000
DTSTAMP:20260421T080613
CREATED:20241105T140313Z
LAST-MODIFIED:20241105T140457Z
UID:959-1731841200-1731841200@elternverein-mariatal.at
SUMMARY:Advent Hoagascht 17. November 2024
DESCRIPTION:Advent Hoagascht 17. November 2024 \nHandgefertigte Geschenke und Dekoration \nKuchen und Snacks \nHausführungen
URL:https://elternverein-mariatal.at/elterntreff/elterntreffen-17-november-2024/
LOCATION:Herrenhaus Brixlegg\, Herrnhauspl. 1\, Brixlegg\, Tirol\, 6230\, Österreich
ATTACH;FMTTYPE=image/png:https://elternverein-mariatal.at/wp-content/uploads/2024/11/adventhoagascht.png
END:VEVENT
BEGIN:VEVENT
DTSTART;TZID=UTC:20241106T190000
DTEND;TZID=UTC:20241106T213000
DTSTAMP:20260421T080613
CREATED:20241105T135148Z
LAST-MODIFIED:20241105T135216Z
UID:957-1730919600-1730928600@elternverein-mariatal.at
SUMMARY:Elterntreffen 6. November 2024
DESCRIPTION:Unser nächstes Treffen findet am Mittwoch\, den6. November ab 19 Uhr im Herrenhaus Brixlegg statt.\nWir freuen uns auf Euch!\n🍁🤗
URL:https://elternverein-mariatal.at/elterntreff/elterntreffen-6-november-2024/
LOCATION:Herrenhaus Brixlegg\, Herrnhauspl. 1\, Brixlegg\, Tirol\, 6230\, Österreich
ATTACH;FMTTYPE=image/jpeg:https://elternverein-mariatal.at/wp-content/uploads/2017/06/elternverein-mariatal-23.jpg
END:VEVENT
BEGIN:VEVENT
DTSTART;TZID=UTC:20240523T190000
DTEND;TZID=UTC:20240523T213000
DTSTAMP:20260421T080613
CREATED:20240502T212949Z
LAST-MODIFIED:20240502T213121Z
UID:952-1716490800-1716499800@elternverein-mariatal.at
SUMMARY:Elterntreffen 23. Mai 2024
DESCRIPTION:Unser nächstes Treffen findet am Donnerstag\, den 23. Mai ab 19 Uhr im Gasthof Gappen in Kramsach statt.\nWir freuen uns auf Euch!\n🍁🤗
URL:https://elternverein-mariatal.at/elterntreff/elterntreffen-23-mai-2024/
LOCATION:Gasthof Gappen\, Achenrain 58\, Kramsach\, Tirol\, 6233
ATTACH;FMTTYPE=image/jpeg:https://elternverein-mariatal.at/wp-content/uploads/2017/06/elternverein-mariatal-23.jpg
END:VEVENT
BEGIN:VEVENT
DTSTART;TZID=UTC:20231023T190000
DTEND;TZID=UTC:20231023T203000
DTSTAMP:20260421T080613
CREATED:20230927T193817Z
LAST-MODIFIED:20230927T193817Z
UID:943-1698087600-1698093000@elternverein-mariatal.at
SUMMARY:Vortrag: Selbst.Wert.Gefühl
DESCRIPTION:Selbst.Wert.Gefühl\nVortragende: Mag. Robin Menges (Klinische & Gesundheitspsychologin\, Familycounselor\, Supervisorin) \nWann: Montag\, 23. Oktober 2023 um 19 Uhr  \nWo: Foyer der Landessonderschule Mariatal \n  \nEnde mit Diskussionsrunde um ca. 20:30 Uhr \nFreiwillige Spenden für den Elternverein Mariatal
URL:https://elternverein-mariatal.at/elterntreff/hilfe-mein-kind-wird-18-jahre-2-2/
LOCATION:Landessonderschule Mariatal\, Mariatal 15\, Kramsach\, Tirol\, 6233\, Österreich
CATEGORIES:Vortrag
ATTACH;FMTTYPE=image/png:https://elternverein-mariatal.at/wp-content/uploads/2023/09/Vortrag-Selbstwertgefuehl-Elternverein-Mariatal.png
ORGANIZER;CN="Elternverein Mariatal":MAILTO:info@elternverein-mariatal.at
END:VEVENT
BEGIN:VEVENT
DTSTART;TZID=UTC:20230427T190000
DTEND;TZID=UTC:20230427T203000
DTSTAMP:20260421T080613
CREATED:20230309T072626Z
LAST-MODIFIED:20230309T073119Z
UID:936-1682622000-1682627400@elternverein-mariatal.at
SUMMARY:Vortrag: Unsere Kinder und die Pupertät - wie gehe ich damit um?
DESCRIPTION:Unsere Kinder und die Pupertät – wie gehe ich damit um?\n\nDer Elternverein der Landessonderschule und Internat Mariatal lädt alle interessierten Damen und Herren zum Vortrag \n„Unsere Kinder und die Pupertät – wie gehe ich damit um?“ \nrecht herzlich ein. \nVortragender: Mag. Nora Kropf von der AIDS Hilfe Tirol \nWann: Donnerstag\, den 27.04.2023 um 19:00 Uhr \nWo: im Foyer der Landessonderschule Mariatal \nEnde mit Diskussionsrunde um ca. 20:30 Uhr \nFreiwillige Spenden für den Elternverein Mariatal
URL:https://elternverein-mariatal.at/elterntreff/hilfe-mein-kind-wird-18-jahre-2/
LOCATION:Landessonderschule Mariatal\, Mariatal 15\, Kramsach\, Tirol\, 6233\, Österreich
CATEGORIES:Vortrag
ATTACH;FMTTYPE=image/png:https://elternverein-mariatal.at/wp-content/uploads/2023/03/Bildschirm­foto-2023-03-09-um-07.56.24-1.png
ORGANIZER;CN="Elternverein Mariatal":MAILTO:info@elternverein-mariatal.at
END:VEVENT
BEGIN:VEVENT
DTSTART;TZID=UTC:20230319T130000
DTEND;TZID=UTC:20230319T170000
DTSTAMP:20260421T080613
CREATED:20170317T123504Z
LAST-MODIFIED:20230309T072220Z
UID:576-1679230800-1679245200@elternverein-mariatal.at
SUMMARY:Osterbasar Mariatal
DESCRIPTION:… oder auch Mariataler Frühlingstreffen genannt. \nKaffee und Kuchen gibt’s vom Elternverein.\nWunderschöne und kreative Ostersachen und Frühlingsdekorationen\, von den Schülern und Schülerinnen von Mariatal erstellt\, werden verkauft. \nBitte an die Eltern: Kuchen backen! Nur mit Eurer Mithilfe kann der Elternverein den Kuchenverkauf durchführen. Benötigt werden ca. 40-50 Kuchen/Torten/Gebäck. Die Einnahmen kommen Euren Kindern zu Gute.\n 
URL:https://elternverein-mariatal.at/elterntreff/osterbasar-mariatal/
LOCATION:Landessonderschule Mariatal\, Mariatal 15\, Kramsach\, Tirol\, 6233\, Österreich
ATTACH;FMTTYPE=image/jpeg:https://elternverein-mariatal.at/wp-content/uploads/2017/03/elternverein-mariatal-osterbasar.jpg
ORGANIZER;CN="Elternverein Mariatal":MAILTO:info@elternverein-mariatal.at
END:VEVENT
BEGIN:VEVENT
DTSTART;TZID=UTC:20221107T190000
DTEND;TZID=UTC:20221107T203000
DTSTAMP:20260421T080613
CREATED:20220812T204515Z
LAST-MODIFIED:20221009T142503Z
UID:924-1667847600-1667853000@elternverein-mariatal.at
SUMMARY:Hilfe - mein Kind wird 18 Jahre - NEUER TERMIN!!!
DESCRIPTION:Hilfe – mein Kind wird 18 Jahre – NEUER TERMIN!!!\n\nDer Elternverein der Landessonderschule und Internat Mariatal lädt alle interessierten Damen und Herren zum Vortrag \n„Mein Kind wird volljährig – von der gesetzlichen Vertretung zur Erwachsenenvertretung“ \nrecht herzlich ein. \nVortragender: Mag. Dr. Manuel Innerhofer\, BA \nWann: am Mittwoch\, den 7.11.2022 um 19:00 Uhr \nWo: im Foyer der Landessonderschule Mariatal \nEnde mit Diskussionsrunde um ca. 20:30 Uhr \nFreiwillige Spenden für den Elternverein Mariatal
URL:https://elternverein-mariatal.at/elterntreff/hilfe-mein-kind-wird-18-jahre/
LOCATION:Landessonderschule Mariatal\, Mariatal 15\, Kramsach\, Tirol\, 6233\, Österreich
ATTACH;FMTTYPE=image/jpeg:https://elternverein-mariatal.at/wp-content/uploads/2022/08/18-jahre-was-nun.jpg
ORGANIZER;CN="Elternverein Mariatal":MAILTO:info@elternverein-mariatal.at
END:VEVENT
BEGIN:VEVENT
DTSTART;TZID=UTC:20221019T193000
DTEND;TZID=UTC:20221019T213000
DTSTAMP:20260421T080613
CREATED:20221009T143800Z
LAST-MODIFIED:20221009T143800Z
UID:931-1666207800-1666215000@elternverein-mariatal.at
SUMMARY:Elterntreffen 19. Oktober 2022
DESCRIPTION:Mittwoch\, der 19. Oktober: Um 19:30 Uhr findet unser nächstes Elterntreffen im Restaurant Jagdhof in Kramsach statt. Wegen Tischreservierung bitte ich euch um Rückmeldung bis Ende dieser Woche. Wir freuen uns schon auf euer Kommen. Danke vielmals und schönen Abend noch! Liebe Grüße\, Sophia 🍁🤗
URL:https://elternverein-mariatal.at/elterntreff/elterntreffen-19-oktober-2022/
LOCATION:Tirol
END:VEVENT
BEGIN:VEVENT
DTSTART;TZID=UTC:20220919T190000
DTEND;TZID=UTC:20220919T193000
DTSTAMP:20260421T080613
CREATED:20220720T080644Z
LAST-MODIFIED:20220720T080802Z
UID:917-1663614000-1663615800@elternverein-mariatal.at
SUMMARY:Generalversammlung 2022
DESCRIPTION:Einladung zur Generalversammlung\nMontag\, den 19.09.2022 um 19:00 Uhr \nIm Foyer der Landessonderschule Mariatal \nLiebes Mitglied\, liebe Damen und Herren\, \nder Elternverein der Landessonderschule und Internat Mariatal lädt alle Vereinsmitglieder und vereinsinteressierte Damen und Herren zur ordentlichen Generalversammlung recht herzlich ein. \nVorläufige Tagesordnung: \n\nBegrüßung\nKurzbericht Obfrau\nKurzbericht Kassier / Rechnungsprüfer\nAntrag auf Entlastung des Vorstandes\nPräsentation Wahlvorschläge\nWahl des neuen Vorstandes\nAusblick auf die nächste Periode\n\nSämtliche Anträge bzw. Wahlvorschläge von ordentlichen Mitgliedern können noch bis 18.09.2022 bei der Obfrau bzw. der Schriftführerin eingebracht werden. \nBitte denken Sie an die Begleichung des Mitgliedsbeitrages in unveränderter Höhe von 15 Euro für das Schuljahr 2022/2023 (Bankverbindung: IBAN AT90 2050 6077 0004 9211\, BIC SPAKUAT22XXX). \nWahlberechtigt sind Mitglieder\, die ihren Mitgliedsbeitrag vom Vorjahr bzw. bei neuen Mitgliedern für das kommende Jahr bezahlt haben. \nMit freundlichen Grüßen \nund der Bitte um verlässliche Teilnahme \nObfrau Sarah Lottersberger \n 
URL:https://elternverein-mariatal.at/elterntreff/generalversammlung-2022/
LOCATION:Landessonderschule Mariatal\, Mariatal 15\, Kramsach\, Tirol\, 6233\, Österreich
ATTACH;FMTTYPE=image/jpeg:https://elternverein-mariatal.at/wp-content/uploads/2022/07/Einladung-Elternverein-Mariatal-2022.jpg
ORGANIZER;CN="Elternverein Mariatal":MAILTO:info@elternverein-mariatal.at
END:VEVENT
BEGIN:VEVENT
DTSTART;TZID=UTC:20211121T130000
DTEND;TZID=UTC:20211121T160000
DTSTAMP:20260421T080613
CREATED:20210930T170104Z
LAST-MODIFIED:20210930T170104Z
UID:881-1637499600-1637510400@elternverein-mariatal.at
SUMMARY:Weihnachtsbasar 21. November 2021
DESCRIPTION:Der Weihnachtsbasar findet am Sonntag 21. November 2021 von 13 bis 16 Uhr statt \nDer Elternverein unterstützt diese traditonelle Veranstaltung mit dem Kuchenbuffet.\nHierzu werden wieder Kuchen und Torten sowie ca. 5 Helfer/innen für den Ausschank von Kaffee und die Kuchenausgabe!!! \nWir bitten alle Eltern einen Kuchen (oder andere kulinarische Köstlichkeiten :-D) zu backen und diese am 21. November bis 13 Uhr in der Schule vorbeizubringen (oder Jemandem mitzugeben). \nÜber den genauen Ablauf des Weihnachtsbasars informiert die Schule noch rechtzeitig.\nEs gelten die zu diesem Zeitpunkt aktuellen Corona-Regeln.
URL:https://elternverein-mariatal.at/elterntreff/weihnachtsbasar-mariatal-2021/
LOCATION:Landessonderschule Mariatal\, Mariatal 15\, Kramsach\, Tirol\, 6233\, Österreich
ATTACH;FMTTYPE=image/jpeg:https://elternverein-mariatal.at/wp-content/uploads/2016/06/elternverein-mariatal-26.jpg
ORGANIZER;CN="Elternverein Mariatal":MAILTO:info@elternverein-mariatal.at
END:VEVENT
BEGIN:VEVENT
DTSTART;TZID=UTC:20181212T200000
DTEND;TZID=UTC:20181212T220000
DTSTAMP:20260421T080613
CREATED:20180410T081131Z
LAST-MODIFIED:20180410T081131Z
UID:748-1544644800-1544652000@elternverein-mariatal.at
SUMMARY:Weihnachtsfeier
DESCRIPTION:Die Weihnachtsfeier findet voraussichtlich am Mittwoch den 12. Dezember 2018 \nim \nGasthof Mariathal \nstatt. \nZwecks Tischreservierung  bitten wir unbedingt um Anmeldung beim Elternverein bei Eva\, per WhatsApp oder email! \n  \nWir freuen uns\, Eltern\, Lehrer und Erzieher und Ehemalige bei der Weihnachtsfeier begrüßen zu dürfen.
URL:https://elternverein-mariatal.at/elterntreff/weihnachtsfeier-2018/
LOCATION:Gasthof Mariathal\, Mariathal 12\, Kramsach\, Tirol\, 6233\, Österreich
ATTACH;FMTTYPE=image/jpeg:https://elternverein-mariatal.at/wp-content/uploads/2016/06/elternverein-mariatal-weihnachtsfeier.jpg
ORGANIZER;CN="Elternverein Mariatal":MAILTO:info@elternverein-mariatal.at
END:VEVENT
BEGIN:VEVENT
DTSTART;TZID=UTC:20180312T173000
DTEND;TZID=UTC:20180312T193000
DTSTAMP:20260421T080613
CREATED:20180302T125101Z
LAST-MODIFIED:20180302T133657Z
UID:731-1520875800-1520883000@elternverein-mariatal.at
SUMMARY:Kira Grünberg besucht Sonderschule Mariatal
DESCRIPTION:Wir freuen uns\, dass Kira Grünberg die LASO Mariatal besucht. \nAm 12. März 2018 um 17.30 können Lehrer\, Erzieher und Eltern mit Kira Grünberg ein anregendes Gespräch führen\, diskutieren und auf wichtige Anliegen hinweisen.
URL:https://elternverein-mariatal.at/elterntreff/kira-gruenberg-besucht-sonderschule-mariatal/
LOCATION:Landessonderschule Mariatal\, Mariatal 15\, Kramsach\, Tirol\, 6233\, Österreich
ORGANIZER;CN="Elternverein Mariatal":MAILTO:info@elternverein-mariatal.at
END:VEVENT
END:VCALENDAR